BEGIN:VCALENDAR
VERSION:2.0
PRODID:-//Bensberger Kindergartenverein - ECPv6.15.13.1//NONSGML v1.0//EN
CALSCALE:GREGORIAN
METHOD:PUBLISH
X-WR-CALNAME:Bensberger Kindergartenverein
X-ORIGINAL-URL:https://www.bensberger-kindergartenverein.de
X-WR-CALDESC:Veranstaltungen für Bensberger Kindergartenverein
REFRESH-INTERVAL;VALUE=DURATION:PT1H
X-Robots-Tag:noindex
X-PUBLISHED-TTL:PT1H
BEGIN:VTIMEZONE
TZID:Europe/Berlin
BEGIN:DAYLIGHT
TZOFFSETFROM:+0100
TZOFFSETTO:+0200
TZNAME:CEST
DTSTART:20220327T010000
END:DAYLIGHT
BEGIN:STANDARD
TZOFFSETFROM:+0200
TZOFFSETTO:+0100
TZNAME:CET
DTSTART:20221030T010000
END:STANDARD
BEGIN:DAYLIGHT
TZOFFSETFROM:+0100
TZOFFSETTO:+0200
TZNAME:CEST
DTSTART:20230326T010000
END:DAYLIGHT
BEGIN:STANDARD
TZOFFSETFROM:+0200
TZOFFSETTO:+0100
TZNAME:CET
DTSTART:20231029T010000
END:STANDARD
BEGIN:DAYLIGHT
TZOFFSETFROM:+0100
TZOFFSETTO:+0200
TZNAME:CEST
DTSTART:20240331T010000
END:DAYLIGHT
BEGIN:STANDARD
TZOFFSETFROM:+0200
TZOFFSETTO:+0100
TZNAME:CET
DTSTART:20241027T010000
END:STANDARD
END:VTIMEZONE
BEGIN:VEVENT
DTSTART;VALUE=DATE:20231202
DTEND;VALUE=DATE:20231203
DTSTAMP:20260424T133452
CREATED:20231106T124621Z
LAST-MODIFIED:20231106T124621Z
UID:2873-1701475200-1701561599@www.bensberger-kindergartenverein.de
SUMMARY:Auftritt der Vorschulkinder auf dem Moitzfelder Weihnachtsmarkt
DESCRIPTION:
URL:https://www.bensberger-kindergartenverein.de/veranstaltungen/auftritt-der-vorschulkinder-auf-dem-moitzfelder-weihnachtsmarkt/
CATEGORIES:Moitzfeld
ATTACH;FMTTYPE=image/jpeg:https://www.bensberger-kindergartenverein.de/wp-content/uploads/2023/10/Team_beispiel.jpg
END:VEVENT
END:VCALENDAR