BEGIN:VCALENDAR
VERSION:2.0
PRODID:-//Bensberger Kindergartenverein - ECPv6.15.13.1//NONSGML v1.0//EN
CALSCALE:GREGORIAN
METHOD:PUBLISH
X-ORIGINAL-URL:https://www.bensberger-kindergartenverein.de
X-WR-CALDESC:Veranstaltungen für Bensberger Kindergartenverein
REFRESH-INTERVAL;VALUE=DURATION:PT1H
X-Robots-Tag:noindex
X-PUBLISHED-TTL:PT1H
BEGIN:VTIMEZONE
TZID:Europe/Berlin
BEGIN:DAYLIGHT
TZOFFSETFROM:+0100
TZOFFSETTO:+0200
TZNAME:CEST
DTSTART:20240331T010000
END:DAYLIGHT
BEGIN:STANDARD
TZOFFSETFROM:+0200
TZOFFSETTO:+0100
TZNAME:CET
DTSTART:20241027T010000
END:STANDARD
BEGIN:DAYLIGHT
TZOFFSETFROM:+0100
TZOFFSETTO:+0200
TZNAME:CEST
DTSTART:20250330T010000
END:DAYLIGHT
BEGIN:STANDARD
TZOFFSETFROM:+0200
TZOFFSETTO:+0100
TZNAME:CET
DTSTART:20251026T010000
END:STANDARD
BEGIN:DAYLIGHT
TZOFFSETFROM:+0100
TZOFFSETTO:+0200
TZNAME:CEST
DTSTART:20260329T010000
END:DAYLIGHT
BEGIN:STANDARD
TZOFFSETFROM:+0200
TZOFFSETTO:+0100
TZNAME:CET
DTSTART:20261025T010000
END:STANDARD
END:VTIMEZONE
BEGIN:VEVENT
DTSTART;TZID=Europe/Berlin:20250714T080000
DTEND;TZID=Europe/Berlin:20250801T170000
DTSTAMP:20260422T111417
CREATED:20250317T164259Z
LAST-MODIFIED:20250317T164259Z
UID:3687-1752480000-1754067600@www.bensberger-kindergartenverein.de
SUMMARY:Sommerschließung
DESCRIPTION:Wir wünschen allen Familien schöne Ferien. Kommen Sie gesund wieder
URL:https://www.bensberger-kindergartenverein.de/veranstaltungen/sommerschliessung-4/
CATEGORIES:Moitzfeld
ATTACH;FMTTYPE=image/png:https://www.bensberger-kindergartenverein.de/wp-content/uploads/2023/10/logo_bensberger-removebg-preview_neu.png
END:VEVENT
BEGIN:VEVENT
DTSTART;VALUE=DATE:20250801
DTEND;VALUE=DATE:20250802
DTSTAMP:20260422T111417
CREATED:20240126T131341Z
LAST-MODIFIED:20250107T212611Z
UID:3123-1754006400-1754092799@www.bensberger-kindergartenverein.de
SUMMARY:Letzter Tag vor den Ferien\, gemeinsames Frühstück
DESCRIPTION:Die Kinder brauchen keine Brotdosen\, wir wünschen schöne Ferien!
URL:https://www.bensberger-kindergartenverein.de/veranstaltungen/letzter-tag-vor-den-ferien-gemeinsames-fruehstueck-2/
CATEGORIES:Herkenrath
ATTACH;FMTTYPE=image/jpeg:https://www.bensberger-kindergartenverein.de/wp-content/uploads/2023/10/Kita_Herkenrath_Aussenbereich_36.jpg
END:VEVENT
END:VCALENDAR