BEGIN:VCALENDAR
VERSION:2.0
PRODID:-//Bensberger Kindergartenverein - ECPv6.15.13.1//NONSGML v1.0//EN
CALSCALE:GREGORIAN
METHOD:PUBLISH
X-WR-CALNAME:Bensberger Kindergartenverein
X-ORIGINAL-URL:https://www.bensberger-kindergartenverein.de
X-WR-CALDESC:Veranstaltungen für Bensberger Kindergartenverein
REFRESH-INTERVAL;VALUE=DURATION:PT1H
X-Robots-Tag:noindex
X-PUBLISHED-TTL:PT1H
BEGIN:VTIMEZONE
TZID:Europe/Berlin
BEGIN:DAYLIGHT
TZOFFSETFROM:+0100
TZOFFSETTO:+0200
TZNAME:CEST
DTSTART:20250330T010000
END:DAYLIGHT
BEGIN:STANDARD
TZOFFSETFROM:+0200
TZOFFSETTO:+0100
TZNAME:CET
DTSTART:20251026T010000
END:STANDARD
BEGIN:DAYLIGHT
TZOFFSETFROM:+0100
TZOFFSETTO:+0200
TZNAME:CEST
DTSTART:20260329T010000
END:DAYLIGHT
BEGIN:STANDARD
TZOFFSETFROM:+0200
TZOFFSETTO:+0100
TZNAME:CET
DTSTART:20261025T010000
END:STANDARD
BEGIN:DAYLIGHT
TZOFFSETFROM:+0100
TZOFFSETTO:+0200
TZNAME:CEST
DTSTART:20270328T010000
END:DAYLIGHT
BEGIN:STANDARD
TZOFFSETFROM:+0200
TZOFFSETTO:+0100
TZNAME:CET
DTSTART:20271031T010000
END:STANDARD
END:VTIMEZONE
BEGIN:VEVENT
DTSTART;VALUE=DATE:20260717
DTEND;VALUE=DATE:20260718
DTSTAMP:20260422T021321
CREATED:20250907T102639Z
LAST-MODIFIED:20250907T135533Z
UID:3968-1784246400-1784332799@www.bensberger-kindergartenverein.de
SUMMARY:Verzauberung Elefanten
DESCRIPTION:Unsere Elefanten werden in Bären und Igel verzaubert.
URL:https://www.bensberger-kindergartenverein.de/veranstaltungen/verzauberung-elefanten/
CATEGORIES:Herkenrath
ATTACH;FMTTYPE=image/png:https://www.bensberger-kindergartenverein.de/wp-content/uploads/2023/10/logo_bensberger-removebg-preview_neu.png
END:VEVENT
BEGIN:VEVENT
DTSTART;VALUE=DATE:20260717
DTEND;VALUE=DATE:20260718
DTSTAMP:20260422T021321
CREATED:20250907T102639Z
LAST-MODIFIED:20250907T135542Z
UID:3969-1784246400-1784332799@www.bensberger-kindergartenverein.de
SUMMARY:Letzter Kita Tag
DESCRIPTION:Wir frühstücken gemeinsamen. Kita schließt um 12:30
URL:https://www.bensberger-kindergartenverein.de/veranstaltungen/letzter-kita-tag/
CATEGORIES:Herkenrath
ATTACH;FMTTYPE=image/png:https://www.bensberger-kindergartenverein.de/wp-content/uploads/2023/10/logo_bensberger-removebg-preview_neu.png
END:VEVENT
END:VCALENDAR