BEGIN:VCALENDAR
VERSION:2.0
PRODID:-//Bensberger Kindergartenverein - ECPv6.15.13.1//NONSGML v1.0//EN
CALSCALE:GREGORIAN
METHOD:PUBLISH
X-WR-CALNAME:Bensberger Kindergartenverein
X-ORIGINAL-URL:https://www.bensberger-kindergartenverein.de
X-WR-CALDESC:Veranstaltungen für Bensberger Kindergartenverein
REFRESH-INTERVAL;VALUE=DURATION:PT1H
X-Robots-Tag:noindex
X-PUBLISHED-TTL:PT1H
BEGIN:VTIMEZONE
TZID:Europe/Berlin
BEGIN:DAYLIGHT
TZOFFSETFROM:+0100
TZOFFSETTO:+0200
TZNAME:CEST
DTSTART:20250330T010000
END:DAYLIGHT
BEGIN:STANDARD
TZOFFSETFROM:+0200
TZOFFSETTO:+0100
TZNAME:CET
DTSTART:20251026T010000
END:STANDARD
BEGIN:DAYLIGHT
TZOFFSETFROM:+0100
TZOFFSETTO:+0200
TZNAME:CEST
DTSTART:20260329T010000
END:DAYLIGHT
BEGIN:STANDARD
TZOFFSETFROM:+0200
TZOFFSETTO:+0100
TZNAME:CET
DTSTART:20261025T010000
END:STANDARD
BEGIN:DAYLIGHT
TZOFFSETFROM:+0100
TZOFFSETTO:+0200
TZNAME:CEST
DTSTART:20270328T010000
END:DAYLIGHT
BEGIN:STANDARD
TZOFFSETFROM:+0200
TZOFFSETTO:+0100
TZNAME:CET
DTSTART:20271031T010000
END:STANDARD
END:VTIMEZONE
BEGIN:VEVENT
DTSTART;VALUE=DATE:20261012
DTEND;VALUE=DATE:20261017
DTSTAMP:20260422T040332
CREATED:20251102T184631Z
LAST-MODIFIED:20251102T184631Z
UID:4114-1791763200-1792195199@www.bensberger-kindergartenverein.de
SUMMARY:Laternenbastelwoche
DESCRIPTION:Da wir erst Ende August mit dem Kitabetrieb starten und dann in der Eingewöhnungszeit sind\, brauchen wir die Basteltalente der Eltern. Ihr dürft mit Euren Kindern die Laterne in der Kita basteln. Hierzu steht eine Woche für die Gruppen die Turnhalle von 14:00 bis 16:00 Uhr zur Verfügung. Wir stellen alles bereit und geben Hilfestellung. Die Tage sind wie folgt aufgeteilt:
URL:https://www.bensberger-kindergartenverein.de/veranstaltungen/laternenbastelwoche/
CATEGORIES:Moitzfeld
END:VEVENT
END:VCALENDAR