BEGIN:VCALENDAR
VERSION:2.0
PRODID:-//Bensberger Kindergartenverein - ECPv6.15.13.1//NONSGML v1.0//EN
CALSCALE:GREGORIAN
METHOD:PUBLISH
X-WR-CALNAME:Bensberger Kindergartenverein
X-ORIGINAL-URL:https://www.bensberger-kindergartenverein.de
X-WR-CALDESC:Veranstaltungen für Bensberger Kindergartenverein
REFRESH-INTERVAL;VALUE=DURATION:PT1H
X-Robots-Tag:noindex
X-PUBLISHED-TTL:PT1H
BEGIN:VTIMEZONE
TZID:Europe/Berlin
BEGIN:DAYLIGHT
TZOFFSETFROM:+0100
TZOFFSETTO:+0200
TZNAME:CEST
DTSTART:20220327T010000
END:DAYLIGHT
BEGIN:STANDARD
TZOFFSETFROM:+0200
TZOFFSETTO:+0100
TZNAME:CET
DTSTART:20221030T010000
END:STANDARD
BEGIN:DAYLIGHT
TZOFFSETFROM:+0100
TZOFFSETTO:+0200
TZNAME:CEST
DTSTART:20230326T010000
END:DAYLIGHT
BEGIN:STANDARD
TZOFFSETFROM:+0200
TZOFFSETTO:+0100
TZNAME:CET
DTSTART:20231029T010000
END:STANDARD
BEGIN:DAYLIGHT
TZOFFSETFROM:+0100
TZOFFSETTO:+0200
TZNAME:CEST
DTSTART:20240331T010000
END:DAYLIGHT
BEGIN:STANDARD
TZOFFSETFROM:+0200
TZOFFSETTO:+0100
TZNAME:CET
DTSTART:20241027T010000
END:STANDARD
END:VTIMEZONE
BEGIN:VEVENT
DTSTART;TZID=Europe/Berlin:20231021T090000
DTEND;TZID=Europe/Berlin:20231021T120000
DTSTAMP:20260424T151301
CREATED:20231013T083957Z
LAST-MODIFIED:20231106T124054Z
UID:2471-1697878800-1697889600@www.bensberger-kindergartenverein.de
SUMMARY:Gartenaktionstag in Herkenrath
DESCRIPTION:Am Samstag 21.10.2023 findet unser Gartenaktionstag statt. Nach dem Motto „Viele Hände – schnelles Ende“ treffen sich die Arbeitswütigen in der Zeit von 9 – 12 Uhr\, um unser schönes Außengelände winterfest zu machen. Nach getaner Arbeit wartet ein kleines Mittagessen auf die fleißigen Helfer.
URL:https://www.bensberger-kindergartenverein.de/veranstaltungen/sozialtag-in-herkenrath/
LOCATION:Kindergarten Herkenrath
CATEGORIES:Herkenrath
ATTACH;FMTTYPE=image/jpeg:https://www.bensberger-kindergartenverein.de/wp-content/uploads/2023/04/Kita_Herkenrath_Sozialtage-2023.jpg
END:VEVENT
END:VCALENDAR