BEGIN:VCALENDAR
VERSION:2.0
PRODID:-//Bensberger Kindergartenverein - ECPv6.15.13.1//NONSGML v1.0//EN
CALSCALE:GREGORIAN
METHOD:PUBLISH
X-WR-CALNAME:Bensberger Kindergartenverein
X-ORIGINAL-URL:https://www.bensberger-kindergartenverein.de
X-WR-CALDESC:Veranstaltungen für Bensberger Kindergartenverein
REFRESH-INTERVAL;VALUE=DURATION:PT1H
X-Robots-Tag:noindex
X-PUBLISHED-TTL:PT1H
BEGIN:VTIMEZONE
TZID:Europe/Berlin
BEGIN:DAYLIGHT
TZOFFSETFROM:+0100
TZOFFSETTO:+0200
TZNAME:CEST
DTSTART:20230326T010000
END:DAYLIGHT
BEGIN:STANDARD
TZOFFSETFROM:+0200
TZOFFSETTO:+0100
TZNAME:CET
DTSTART:20231029T010000
END:STANDARD
BEGIN:DAYLIGHT
TZOFFSETFROM:+0100
TZOFFSETTO:+0200
TZNAME:CEST
DTSTART:20240331T010000
END:DAYLIGHT
BEGIN:STANDARD
TZOFFSETFROM:+0200
TZOFFSETTO:+0100
TZNAME:CET
DTSTART:20241027T010000
END:STANDARD
BEGIN:DAYLIGHT
TZOFFSETFROM:+0100
TZOFFSETTO:+0200
TZNAME:CEST
DTSTART:20250330T010000
END:DAYLIGHT
BEGIN:STANDARD
TZOFFSETFROM:+0200
TZOFFSETTO:+0100
TZNAME:CET
DTSTART:20251026T010000
END:STANDARD
END:VTIMEZONE
BEGIN:VEVENT
DTSTART;VALUE=DATE:20240413
DTEND;VALUE=DATE:20240415
DTSTAMP:20260424T045737
CREATED:20240304T211903Z
LAST-MODIFIED:20240316T103945Z
UID:3197-1712966400-1713139199@www.bensberger-kindergartenverein.de
SUMMARY:Frühlingsbasar in Herkenrath
DESCRIPTION:
URL:https://www.bensberger-kindergartenverein.de/veranstaltungen/fruehjahrbasar-in-herkenrath/
CATEGORIES:Herkenrath
ATTACH;FMTTYPE=image/png:https://www.bensberger-kindergartenverein.de/wp-content/uploads/2024/03/Flyer_Kita-Herkenrath_Fruehlingsbasar.png
END:VEVENT
BEGIN:VEVENT
DTSTART;TZID=Europe/Berlin:20240426T150000
DTEND;TZID=Europe/Berlin:20240426T170000
DTSTAMP:20260424T045737
CREATED:20231106T130627Z
LAST-MODIFIED:20231106T192135Z
UID:2893-1714143600-1714150800@www.bensberger-kindergartenverein.de
SUMMARY:Vater- Kind- Aktionstag
DESCRIPTION:Von 15:00- 17:00 Uhr freuen wir uns mit den Papas und Kindern etwas Schönes zu machen. Thema und Aushänge erfolgen zeitnah.
URL:https://www.bensberger-kindergartenverein.de/veranstaltungen/vater-kind-aktionstag/
CATEGORIES:Moitzfeld
ATTACH;FMTTYPE=image/jpeg:https://www.bensberger-kindergartenverein.de/wp-content/uploads/2023/10/Kita_Moitzfeld_Spielen_3-1-scaled.jpg
END:VEVENT
END:VCALENDAR