BEGIN:VCALENDAR
VERSION:2.0
PRODID:-//Bensberger Kindergartenverein - ECPv6.15.13.1//NONSGML v1.0//EN
CALSCALE:GREGORIAN
METHOD:PUBLISH
X-WR-CALNAME:Bensberger Kindergartenverein
X-ORIGINAL-URL:https://www.bensberger-kindergartenverein.de
X-WR-CALDESC:Veranstaltungen für Bensberger Kindergartenverein
REFRESH-INTERVAL;VALUE=DURATION:PT1H
X-Robots-Tag:noindex
X-PUBLISHED-TTL:PT1H
BEGIN:VTIMEZONE
TZID:Europe/Berlin
BEGIN:DAYLIGHT
TZOFFSETFROM:+0100
TZOFFSETTO:+0200
TZNAME:CEST
DTSTART:20240331T010000
END:DAYLIGHT
BEGIN:STANDARD
TZOFFSETFROM:+0200
TZOFFSETTO:+0100
TZNAME:CET
DTSTART:20241027T010000
END:STANDARD
BEGIN:DAYLIGHT
TZOFFSETFROM:+0100
TZOFFSETTO:+0200
TZNAME:CEST
DTSTART:20250330T010000
END:DAYLIGHT
BEGIN:STANDARD
TZOFFSETFROM:+0200
TZOFFSETTO:+0100
TZNAME:CET
DTSTART:20251026T010000
END:STANDARD
BEGIN:DAYLIGHT
TZOFFSETFROM:+0100
TZOFFSETTO:+0200
TZNAME:CEST
DTSTART:20260329T010000
END:DAYLIGHT
BEGIN:STANDARD
TZOFFSETFROM:+0200
TZOFFSETTO:+0100
TZNAME:CET
DTSTART:20261025T010000
END:STANDARD
END:VTIMEZONE
BEGIN:VEVENT
DTSTART;VALUE=DATE:20250704
DTEND;VALUE=DATE:20250705
DTSTAMP:20260422T112237
CREATED:20250107T212049Z
LAST-MODIFIED:20250107T212049Z
UID:3489-1751587200-1751673599@www.bensberger-kindergartenverein.de
SUMMARY:Riesenkinder Abschluss
DESCRIPTION:Uhrzeit und Informationen folgen
URL:https://www.bensberger-kindergartenverein.de/veranstaltungen/riesenkinder-abschluss/
CATEGORIES:Herkenrath
ATTACH;FMTTYPE=image/jpeg:https://www.bensberger-kindergartenverein.de/wp-content/uploads/2023/10/Team_beispiel.jpg
END:VEVENT
BEGIN:VEVENT
DTSTART;VALUE=DATE:20250704
DTEND;VALUE=DATE:20250705
DTSTAMP:20260422T112237
CREATED:20250317T164156Z
LAST-MODIFIED:20250317T164156Z
UID:3684-1751587200-1751673599@www.bensberger-kindergartenverein.de
SUMMARY:Riesentag
DESCRIPTION:Wir planen einen spannenden und tollen Tag für die Kinder.
URL:https://www.bensberger-kindergartenverein.de/veranstaltungen/riesentag/
CATEGORIES:Moitzfeld
ATTACH;FMTTYPE=image/png:https://www.bensberger-kindergartenverein.de/wp-content/uploads/2023/10/logo_bensberger-removebg-preview_neu.png
END:VEVENT
BEGIN:VEVENT
DTSTART;VALUE=DATE:20250709
DTEND;VALUE=DATE:20250710
DTSTAMP:20260422T112237
CREATED:20250107T212215Z
LAST-MODIFIED:20250107T212215Z
UID:3491-1752019200-1752105599@www.bensberger-kindergartenverein.de
SUMMARY:Abschlussausflug der U3 Kinder
DESCRIPTION:Abschlussausflug der U3 Kinder
URL:https://www.bensberger-kindergartenverein.de/veranstaltungen/abschlussausflug-der-u3-kinder/
CATEGORIES:Herkenrath
ATTACH;FMTTYPE=image/jpeg:https://www.bensberger-kindergartenverein.de/wp-content/uploads/2023/10/Kita_Moitzfeld_Frosch_1.jpg
END:VEVENT
BEGIN:VEVENT
DTSTART;VALUE=DATE:20250710
DTEND;VALUE=DATE:20250711
DTSTAMP:20260422T112237
CREATED:20250107T212354Z
LAST-MODIFIED:20250107T212354Z
UID:3493-1752105600-1752191999@www.bensberger-kindergartenverein.de
SUMMARY:Abschlussausflug der Ü3-Kinder
DESCRIPTION:Uhrzeit und Informationen folgen
URL:https://www.bensberger-kindergartenverein.de/veranstaltungen/abschlussausflug-der-ue3-kinder/
CATEGORIES:Herkenrath
ATTACH;FMTTYPE=image/jpeg:https://www.bensberger-kindergartenverein.de/wp-content/uploads/2023/10/Kita_Moitzfeld_Sandkasten_1-1.jpg
END:VEVENT
BEGIN:VEVENT
DTSTART;VALUE=DATE:20250711
DTEND;VALUE=DATE:20250712
DTSTAMP:20260422T112237
CREATED:20250317T164224Z
LAST-MODIFIED:20250317T164224Z
UID:3683-1752192000-1752278399@www.bensberger-kindergartenverein.de
SUMMARY:Letzter Tag vor den Ferien\, gemeinsames Frühstück
DESCRIPTION:Sie sind herzlich zum gemeinsamen Frühstück eingeladen. Um 12:30 Uhr starten alle in die Ferien
URL:https://www.bensberger-kindergartenverein.de/veranstaltungen/letzter-tag-vor-den-ferien-gemeinsames-fruehstueck-3/
CATEGORIES:Moitzfeld
ATTACH;FMTTYPE=image/png:https://www.bensberger-kindergartenverein.de/wp-content/uploads/2023/10/logo_bensberger-removebg-preview_neu.png
END:VEVENT
BEGIN:VEVENT
DTSTART;TZID=Europe/Berlin:20250714T080000
DTEND;TZID=Europe/Berlin:20250801T170000
DTSTAMP:20260422T112237
CREATED:20250317T164259Z
LAST-MODIFIED:20250317T164259Z
UID:3687-1752480000-1754067600@www.bensberger-kindergartenverein.de
SUMMARY:Sommerschließung
DESCRIPTION:Wir wünschen allen Familien schöne Ferien. Kommen Sie gesund wieder
URL:https://www.bensberger-kindergartenverein.de/veranstaltungen/sommerschliessung-4/
CATEGORIES:Moitzfeld
ATTACH;FMTTYPE=image/png:https://www.bensberger-kindergartenverein.de/wp-content/uploads/2023/10/logo_bensberger-removebg-preview_neu.png
END:VEVENT
END:VCALENDAR