BEGIN:VCALENDAR
VERSION:2.0
PRODID:-//Bensberger Kindergartenverein - ECPv6.15.13.1//NONSGML v1.0//EN
CALSCALE:GREGORIAN
METHOD:PUBLISH
X-ORIGINAL-URL:https://www.bensberger-kindergartenverein.de
X-WR-CALDESC:Veranstaltungen für Bensberger Kindergartenverein
REFRESH-INTERVAL;VALUE=DURATION:PT1H
X-Robots-Tag:noindex
X-PUBLISHED-TTL:PT1H
BEGIN:VTIMEZONE
TZID:Europe/Berlin
BEGIN:DAYLIGHT
TZOFFSETFROM:+0100
TZOFFSETTO:+0200
TZNAME:CEST
DTSTART:20240331T010000
END:DAYLIGHT
BEGIN:STANDARD
TZOFFSETFROM:+0200
TZOFFSETTO:+0100
TZNAME:CET
DTSTART:20241027T010000
END:STANDARD
BEGIN:DAYLIGHT
TZOFFSETFROM:+0100
TZOFFSETTO:+0200
TZNAME:CEST
DTSTART:20250330T010000
END:DAYLIGHT
BEGIN:STANDARD
TZOFFSETFROM:+0200
TZOFFSETTO:+0100
TZNAME:CET
DTSTART:20251026T010000
END:STANDARD
BEGIN:DAYLIGHT
TZOFFSETFROM:+0100
TZOFFSETTO:+0200
TZNAME:CEST
DTSTART:20260329T010000
END:DAYLIGHT
BEGIN:STANDARD
TZOFFSETFROM:+0200
TZOFFSETTO:+0100
TZNAME:CET
DTSTART:20261025T010000
END:STANDARD
END:VTIMEZONE
BEGIN:VEVENT
DTSTART;TZID=Europe/Berlin:20250714T080000
DTEND;TZID=Europe/Berlin:20250801T170000
DTSTAMP:20260422T071637
CREATED:20250317T164259Z
LAST-MODIFIED:20250317T164259Z
UID:3687-1752480000-1754067600@www.bensberger-kindergartenverein.de
SUMMARY:Sommerschließung
DESCRIPTION:Wir wünschen allen Familien schöne Ferien. Kommen Sie gesund wieder
URL:https://www.bensberger-kindergartenverein.de/veranstaltungen/sommerschliessung-4/
CATEGORIES:Moitzfeld
ATTACH;FMTTYPE=image/png:https://www.bensberger-kindergartenverein.de/wp-content/uploads/2023/10/logo_bensberger-removebg-preview_neu.png
END:VEVENT
BEGIN:VEVENT
DTSTART;VALUE=DATE:20250801
DTEND;VALUE=DATE:20250802
DTSTAMP:20260422T071637
CREATED:20240126T131341Z
LAST-MODIFIED:20250107T212611Z
UID:3123-1754006400-1754092799@www.bensberger-kindergartenverein.de
SUMMARY:Letzter Tag vor den Ferien\, gemeinsames Frühstück
DESCRIPTION:Die Kinder brauchen keine Brotdosen\, wir wünschen schöne Ferien!
URL:https://www.bensberger-kindergartenverein.de/veranstaltungen/letzter-tag-vor-den-ferien-gemeinsames-fruehstueck-2/
CATEGORIES:Herkenrath
ATTACH;FMTTYPE=image/jpeg:https://www.bensberger-kindergartenverein.de/wp-content/uploads/2023/10/Kita_Herkenrath_Aussenbereich_36.jpg
END:VEVENT
BEGIN:VEVENT
DTSTART;VALUE=DATE:20250804
DTEND;VALUE=DATE:20250805
DTSTAMP:20260422T071637
CREATED:20250317T164324Z
LAST-MODIFIED:20250317T164324Z
UID:3690-1754265600-1754351999@www.bensberger-kindergartenverein.de
SUMMARY:Desinfektions- Putz- und Räumtag
DESCRIPTION:Die Kita wird auf Hochglanz gebracht damit für den ersten Tag nach den Ferien alles bereit ist. Erster Kita Tag für die Kinder ist der 05.08.
URL:https://www.bensberger-kindergartenverein.de/veranstaltungen/desinfektions-putz-und-raeumtag-2/
CATEGORIES:Moitzfeld
ATTACH;FMTTYPE=image/png:https://www.bensberger-kindergartenverein.de/wp-content/uploads/2023/10/logo_bensberger-removebg-preview_neu.png
END:VEVENT
BEGIN:VEVENT
DTSTART;VALUE=DATE:20250804
DTEND;VALUE=DATE:20250823
DTSTAMP:20260422T071637
CREATED:20250107T212822Z
LAST-MODIFIED:20250107T212822Z
UID:3496-1754265600-1755907199@www.bensberger-kindergartenverein.de
SUMMARY:Sommerferien Herkenrath
DESCRIPTION:Die Kita bleibt zu
URL:https://www.bensberger-kindergartenverein.de/veranstaltungen/sommerferien-herkenrath/
CATEGORIES:Herkenrath
ATTACH;FMTTYPE=image/jpeg:https://www.bensberger-kindergartenverein.de/wp-content/uploads/2023/10/Kita_Herkenrath_Aussenbereich_10.jpg
END:VEVENT
BEGIN:VEVENT
DTSTART;VALUE=DATE:20250825
DTEND;VALUE=DATE:20250826
DTSTAMP:20260422T071637
CREATED:20250107T212958Z
LAST-MODIFIED:20250107T212958Z
UID:3498-1756080000-1756166399@www.bensberger-kindergartenverein.de
SUMMARY:Desinfektionstag
DESCRIPTION:Kita bleibt geschlossen
URL:https://www.bensberger-kindergartenverein.de/veranstaltungen/desinfektionstag/
ATTACH;FMTTYPE=image/jpeg:https://www.bensberger-kindergartenverein.de/wp-content/uploads/2023/10/Team_beispiel.jpg
END:VEVENT
BEGIN:VEVENT
DTSTART;VALUE=DATE:20250826
DTEND;VALUE=DATE:20250827
DTSTAMP:20260422T071637
CREATED:20250107T213107Z
LAST-MODIFIED:20250107T213145Z
UID:3500-1756166400-1756252799@www.bensberger-kindergartenverein.de
SUMMARY:1. Betreuungstag nach den Ferien
DESCRIPTION:Herzlich willkommen zurück!
URL:https://www.bensberger-kindergartenverein.de/veranstaltungen/1-betreuungstag-nach-den-ferien/
CATEGORIES:Herkenrath
ATTACH;FMTTYPE=image/jpeg:https://www.bensberger-kindergartenverein.de/wp-content/uploads/2023/10/835G0637-Kopie-scaled.jpg
END:VEVENT
END:VCALENDAR