BEGIN:VCALENDAR
VERSION:2.0
PRODID:-//Bensberger Kindergartenverein - ECPv6.15.13.1//NONSGML v1.0//EN
CALSCALE:GREGORIAN
METHOD:PUBLISH
X-WR-CALNAME:Bensberger Kindergartenverein
X-ORIGINAL-URL:https://www.bensberger-kindergartenverein.de
X-WR-CALDESC:Veranstaltungen für Bensberger Kindergartenverein
REFRESH-INTERVAL;VALUE=DURATION:PT1H
X-Robots-Tag:noindex
X-PUBLISHED-TTL:PT1H
BEGIN:VTIMEZONE
TZID:Europe/Berlin
BEGIN:DAYLIGHT
TZOFFSETFROM:+0100
TZOFFSETTO:+0200
TZNAME:CEST
DTSTART:20240331T010000
END:DAYLIGHT
BEGIN:STANDARD
TZOFFSETFROM:+0200
TZOFFSETTO:+0100
TZNAME:CET
DTSTART:20241027T010000
END:STANDARD
BEGIN:DAYLIGHT
TZOFFSETFROM:+0100
TZOFFSETTO:+0200
TZNAME:CEST
DTSTART:20250330T010000
END:DAYLIGHT
BEGIN:STANDARD
TZOFFSETFROM:+0200
TZOFFSETTO:+0100
TZNAME:CET
DTSTART:20251026T010000
END:STANDARD
BEGIN:DAYLIGHT
TZOFFSETFROM:+0100
TZOFFSETTO:+0200
TZNAME:CEST
DTSTART:20260329T010000
END:DAYLIGHT
BEGIN:STANDARD
TZOFFSETFROM:+0200
TZOFFSETTO:+0100
TZNAME:CET
DTSTART:20261025T010000
END:STANDARD
END:VTIMEZONE
BEGIN:VEVENT
DTSTART;VALUE=DATE:20251110
DTEND;VALUE=DATE:20251111
DTSTAMP:20260422T035505
CREATED:20250317T164625Z
LAST-MODIFIED:20250317T164625Z
UID:3697-1762732800-1762819199@www.bensberger-kindergartenverein.de
SUMMARY:Sankt Martin
DESCRIPTION:Wir freuen uns auf einen schönen Martinsabend. Infos folgen zeitnah
URL:https://www.bensberger-kindergartenverein.de/veranstaltungen/sankt-martin-3/
CATEGORIES:Moitzfeld
ATTACH;FMTTYPE=image/png:https://www.bensberger-kindergartenverein.de/wp-content/uploads/2023/10/logo_bensberger-removebg-preview_neu.png
END:VEVENT
BEGIN:VEVENT
DTSTART;TZID=Europe/Berlin:20251113T160000
DTEND;TZID=Europe/Berlin:20251113T200000
DTSTAMP:20260422T035505
CREATED:20241004T070629Z
LAST-MODIFIED:20250107T214133Z
UID:3356-1763049600-1763064000@www.bensberger-kindergartenverein.de
SUMMARY:Sankt Martin in Herkenrath
DESCRIPTION:
URL:https://www.bensberger-kindergartenverein.de/veranstaltungen/sankt-martin-in-herkenrath/
CATEGORIES:Herkenrath
ATTACH;FMTTYPE=image/jpeg:https://www.bensberger-kindergartenverein.de/wp-content/uploads/2023/11/St-Martin.jpg
END:VEVENT
BEGIN:VEVENT
DTSTART;VALUE=DATE:20251114
DTEND;VALUE=DATE:20251115
DTSTAMP:20260422T035505
CREATED:20240126T130552Z
LAST-MODIFIED:20250107T215344Z
UID:3109-1763078400-1763164799@www.bensberger-kindergartenverein.de
SUMMARY:Konzeptionstag\, Kita geschlossen
DESCRIPTION:Die Einrichtung ist an diesen Tagen für die Kinder geschlossen.
URL:https://www.bensberger-kindergartenverein.de/veranstaltungen/konzeptionstag-zusammen-mit-moitzfeld/
CATEGORIES:Herkenrath
ATTACH;FMTTYPE=image/jpeg:https://www.bensberger-kindergartenverein.de/wp-content/uploads/2023/10/Kita_Moitzfeld_Stifte_1-2-scaled.jpg
END:VEVENT
BEGIN:VEVENT
DTSTART;TZID=Europe/Berlin:20251122T100000
DTEND;TZID=Europe/Berlin:20251122T130000
DTSTAMP:20260422T035505
CREATED:20250107T214430Z
LAST-MODIFIED:20250107T214430Z
UID:3512-1763805600-1763816400@www.bensberger-kindergartenverein.de
SUMMARY:Gartentag
DESCRIPTION:
URL:https://www.bensberger-kindergartenverein.de/veranstaltungen/gartentag/
CATEGORIES:Herkenrath
ATTACH;FMTTYPE=image/jpeg:https://www.bensberger-kindergartenverein.de/wp-content/uploads/2024/03/Kita-Herkenrath-Gartentag-Zaun-1.jpg
END:VEVENT
END:VCALENDAR