BEGIN:VCALENDAR
VERSION:2.0
PRODID:-//Bensberger Kindergartenverein - ECPv6.15.13.1//NONSGML v1.0//EN
CALSCALE:GREGORIAN
METHOD:PUBLISH
X-WR-CALNAME:Bensberger Kindergartenverein
X-ORIGINAL-URL:https://www.bensberger-kindergartenverein.de
X-WR-CALDESC:Veranstaltungen für Bensberger Kindergartenverein
REFRESH-INTERVAL;VALUE=DURATION:PT1H
X-Robots-Tag:noindex
X-PUBLISHED-TTL:PT1H
BEGIN:VTIMEZONE
TZID:Europe/Berlin
BEGIN:DAYLIGHT
TZOFFSETFROM:+0100
TZOFFSETTO:+0200
TZNAME:CEST
DTSTART:20240331T010000
END:DAYLIGHT
BEGIN:STANDARD
TZOFFSETFROM:+0200
TZOFFSETTO:+0100
TZNAME:CET
DTSTART:20241027T010000
END:STANDARD
BEGIN:DAYLIGHT
TZOFFSETFROM:+0100
TZOFFSETTO:+0200
TZNAME:CEST
DTSTART:20250330T010000
END:DAYLIGHT
BEGIN:STANDARD
TZOFFSETFROM:+0200
TZOFFSETTO:+0100
TZNAME:CET
DTSTART:20251026T010000
END:STANDARD
BEGIN:DAYLIGHT
TZOFFSETFROM:+0100
TZOFFSETTO:+0200
TZNAME:CEST
DTSTART:20260329T010000
END:DAYLIGHT
BEGIN:STANDARD
TZOFFSETFROM:+0200
TZOFFSETTO:+0100
TZNAME:CET
DTSTART:20261025T010000
END:STANDARD
BEGIN:DAYLIGHT
TZOFFSETFROM:+0100
TZOFFSETTO:+0200
TZNAME:CEST
DTSTART:20270328T010000
END:DAYLIGHT
BEGIN:STANDARD
TZOFFSETFROM:+0200
TZOFFSETTO:+0100
TZNAME:CET
DTSTART:20271031T010000
END:STANDARD
END:VTIMEZONE
BEGIN:VEVENT
DTSTART;VALUE=DATE:20251223
DTEND;VALUE=DATE:20260103
DTSTAMP:20260422T035455
CREATED:20250317T164726Z
LAST-MODIFIED:20250317T164726Z
UID:3702-1766448000-1767398399@www.bensberger-kindergartenverein.de
SUMMARY:Gemeinsames Weihnachtsfrühstück Weihnachtsschließung bis einschließlich 02.01
DESCRIPTION:Alle Eltern sind eingeladen mit uns das Jahr\, bei einem gemeinsamen Frühstück\, ausklingen zu lassen. Die Kita schließt um 12:00 Uhr. Wir wünschen besinnliche Feiertage
URL:https://www.bensberger-kindergartenverein.de/veranstaltungen/gemeinsames-weihnachtsfruehstueck-weihnachtsschliessung-bis-einschliesslich-02-01/
CATEGORIES:Moitzfeld
ATTACH;FMTTYPE=image/png:https://www.bensberger-kindergartenverein.de/wp-content/uploads/2023/10/logo_bensberger-removebg-preview_neu.png
END:VEVENT
BEGIN:VEVENT
DTSTART;VALUE=DATE:20260102
DTEND;VALUE=DATE:20260103
DTSTAMP:20260422T035455
CREATED:20251102T184555Z
LAST-MODIFIED:20251102T184555Z
UID:4096-1767312000-1767398399@www.bensberger-kindergartenverein.de
SUMMARY:Schließtag
DESCRIPTION:Wir sehen uns am 05.01. wieder
URL:https://www.bensberger-kindergartenverein.de/veranstaltungen/schliesstag/
CATEGORIES:Moitzfeld
END:VEVENT
BEGIN:VEVENT
DTSTART;VALUE=DATE:20260105
DTEND;VALUE=DATE:20260106
DTSTAMP:20260422T035455
CREATED:20250107T214802Z
LAST-MODIFIED:20250107T214802Z
UID:3517-1767571200-1767657599@www.bensberger-kindergartenverein.de
SUMMARY:Erster Betreuungstag im neuen Jahr
DESCRIPTION:
URL:https://www.bensberger-kindergartenverein.de/veranstaltungen/erster-betreuungstag-im-neuen-jahr/
CATEGORIES:Herkenrath
ATTACH;FMTTYPE=image/jpeg:https://www.bensberger-kindergartenverein.de/wp-content/uploads/2023/10/gruppen_moitzfeld.jpg
END:VEVENT
BEGIN:VEVENT
DTSTART;VALUE=DATE:20260109
DTEND;VALUE=DATE:20260110
DTSTAMP:20260422T035455
CREATED:20250907T095940Z
LAST-MODIFIED:20250907T095940Z
UID:3928-1767916800-1768003199@www.bensberger-kindergartenverein.de
SUMMARY:Gemeinsames Neujahrsfrühstück!
DESCRIPTION:Die Brotdosen bleiben zu Hause. Wir frühstücken zusammen!
URL:https://www.bensberger-kindergartenverein.de/veranstaltungen/gemeinsames-neujahrsfruehstueck/
CATEGORIES:Herkenrath
ATTACH;FMTTYPE=image/jpeg:https://www.bensberger-kindergartenverein.de/wp-content/uploads/2023/10/Kita_Herkenrath_Aussenbereich_35.jpg
END:VEVENT
BEGIN:VEVENT
DTSTART;VALUE=DATE:20260126
DTEND;VALUE=DATE:20260127
DTSTAMP:20260422T035455
CREATED:20250907T100140Z
LAST-MODIFIED:20250907T100140Z
UID:3932-1769385600-1769471999@www.bensberger-kindergartenverein.de
SUMMARY:Die Wahl des Dreigestirns 2025
DESCRIPTION:Wir wählen unser Dreigestirn 2026
URL:https://www.bensberger-kindergartenverein.de/veranstaltungen/die-wahl-des-dreigestirns-2025-2/
CATEGORIES:Herkenrath
ATTACH;FMTTYPE=image/png:https://www.bensberger-kindergartenverein.de/wp-content/uploads/2023/10/logo_bensberger-removebg-preview_neu.png
END:VEVENT
BEGIN:VEVENT
DTSTART;VALUE=DATE:20260126
DTEND;VALUE=DATE:20260213
DTSTAMP:20260422T035455
CREATED:20250907T100222Z
LAST-MODIFIED:20250907T100235Z
UID:3935-1769385600-1770940799@www.bensberger-kindergartenverein.de
SUMMARY:Mottowoche Karneval
DESCRIPTION:Wir beschäftigen uns mit dem Karnevalthema und basteln\, singen und proben!
URL:https://www.bensberger-kindergartenverein.de/veranstaltungen/mottowoche-karneval-2/
CATEGORIES:Herkenrath
ATTACH;FMTTYPE=image/png:https://www.bensberger-kindergartenverein.de/wp-content/uploads/2023/10/logo_bensberger-removebg-preview_neu.png
END:VEVENT
BEGIN:VEVENT
DTSTART;VALUE=DATE:20260130
DTEND;VALUE=DATE:20260131
DTSTAMP:20260422T035455
CREATED:20250907T100033Z
LAST-MODIFIED:20250907T100033Z
UID:3930-1769731200-1769817599@www.bensberger-kindergartenverein.de
SUMMARY:Konzeptionstag
DESCRIPTION:Die Kita bleibt geschlossen. Das Personal arbeitet am pädagogischen Konzept.
URL:https://www.bensberger-kindergartenverein.de/veranstaltungen/konzeptionstag-2/
CATEGORIES:Herkenrath
ATTACH;FMTTYPE=image/jpeg:https://www.bensberger-kindergartenverein.de/wp-content/uploads/2023/10/Kita_Moitzfeld_Stifte_1-1-scaled.jpg
END:VEVENT
END:VCALENDAR