BEGIN:VCALENDAR
VERSION:2.0
PRODID:-//Bensberger Kindergartenverein - ECPv6.15.13.1//NONSGML v1.0//EN
CALSCALE:GREGORIAN
METHOD:PUBLISH
X-WR-CALNAME:Bensberger Kindergartenverein
X-ORIGINAL-URL:https://www.bensberger-kindergartenverein.de
X-WR-CALDESC:Veranstaltungen für Bensberger Kindergartenverein
REFRESH-INTERVAL;VALUE=DURATION:PT1H
X-Robots-Tag:noindex
X-PUBLISHED-TTL:PT1H
BEGIN:VTIMEZONE
TZID:Europe/Berlin
BEGIN:DAYLIGHT
TZOFFSETFROM:+0100
TZOFFSETTO:+0200
TZNAME:CEST
DTSTART:20250330T010000
END:DAYLIGHT
BEGIN:STANDARD
TZOFFSETFROM:+0200
TZOFFSETTO:+0100
TZNAME:CET
DTSTART:20251026T010000
END:STANDARD
BEGIN:DAYLIGHT
TZOFFSETFROM:+0100
TZOFFSETTO:+0200
TZNAME:CEST
DTSTART:20260329T010000
END:DAYLIGHT
BEGIN:STANDARD
TZOFFSETFROM:+0200
TZOFFSETTO:+0100
TZNAME:CET
DTSTART:20261025T010000
END:STANDARD
BEGIN:DAYLIGHT
TZOFFSETFROM:+0100
TZOFFSETTO:+0200
TZNAME:CEST
DTSTART:20270328T010000
END:DAYLIGHT
BEGIN:STANDARD
TZOFFSETFROM:+0200
TZOFFSETTO:+0100
TZNAME:CET
DTSTART:20271031T010000
END:STANDARD
END:VTIMEZONE
BEGIN:VEVENT
DTSTART;VALUE=DATE:20261109
DTEND;VALUE=DATE:20261110
DTSTAMP:20260422T051608
CREATED:20251102T184631Z
LAST-MODIFIED:20251102T184631Z
UID:4115-1794182400-1794268799@www.bensberger-kindergartenverein.de
SUMMARY:Sankt Martin
DESCRIPTION:Wir freuen uns auf einen schönen Martinsabend. Infos folgen zeitnah
URL:https://www.bensberger-kindergartenverein.de/veranstaltungen/sankt-martin-5/
CATEGORIES:Moitzfeld
END:VEVENT
BEGIN:VEVENT
DTSTART;VALUE=DATE:20261112
DTEND;VALUE=DATE:20261113
DTSTAMP:20260422T051608
CREATED:20250907T102840Z
LAST-MODIFIED:20250907T135409Z
UID:3975-1794441600-1794527999@www.bensberger-kindergartenverein.de
SUMMARY:Sankt Martin!
DESCRIPTION:Wir feiern Sankt Martin zusammen – Informationen + Uhrzeit folgen
URL:https://www.bensberger-kindergartenverein.de/veranstaltungen/sankt-martin-4/
CATEGORIES:Herkenrath
ATTACH;FMTTYPE=image/png:https://www.bensberger-kindergartenverein.de/wp-content/uploads/2023/10/logo_bensberger-removebg-preview_neu.png
END:VEVENT
BEGIN:VEVENT
DTSTART;VALUE=DATE:20261113
DTEND;VALUE=DATE:20261114
DTSTAMP:20260422T051608
CREATED:20250907T102840Z
LAST-MODIFIED:20250907T135353Z
UID:3976-1794528000-1794614399@www.bensberger-kindergartenverein.de
SUMMARY:Konzeptionstag
DESCRIPTION:Die Kita bleibt geschlossen
URL:https://www.bensberger-kindergartenverein.de/veranstaltungen/konzeptionstag-4/
CATEGORIES:Herkenrath
ATTACH;FMTTYPE=image/png:https://www.bensberger-kindergartenverein.de/wp-content/uploads/2023/10/logo_bensberger-removebg-preview_neu.png
END:VEVENT
BEGIN:VEVENT
DTSTART;VALUE=DATE:20261121
DTEND;VALUE=DATE:20261122
DTSTAMP:20260422T051608
CREATED:20250907T103039Z
LAST-MODIFIED:20250907T145721Z
UID:3977-1795219200-1795305599@www.bensberger-kindergartenverein.de
SUMMARY:Gartentag
DESCRIPTION:Elternaktion mit dem Personal von 10 Uhr bis 13 Uhr
URL:https://www.bensberger-kindergartenverein.de/veranstaltungen/gartentag-3/
CATEGORIES:Herkenrath
ATTACH;FMTTYPE=image/jpeg:https://www.bensberger-kindergartenverein.de/wp-content/uploads/2024/03/Kita-Herkenrath-Gartentag-Zaun-1.jpg
END:VEVENT
BEGIN:VEVENT
DTSTART;VALUE=DATE:20261130
DTEND;VALUE=DATE:20261201
DTSTAMP:20260422T051608
CREATED:20251102T184646Z
LAST-MODIFIED:20251102T184646Z
UID:4116-1795996800-1796083199@www.bensberger-kindergartenverein.de
SUMMARY:Oma- Opa- Adventnachmittag
DESCRIPTION:Omas und Opas sind herzlich eingeladen mit ihren Enkeln einen gemütlichen Nachmittag in der Kita zu verbringen. Infos und Uhrzeit folgen zeitnah
URL:https://www.bensberger-kindergartenverein.de/veranstaltungen/oma-opa-adventnachmittag-2/
CATEGORIES:Moitzfeld
END:VEVENT
END:VCALENDAR